Workbook

Sheet ERT_FLTS_YY
A1: Data source | B1: EUROCONTROL - PRU | C1: Period Start | D1: 42005 | E1: Meta data | F1: N/A
A2: Release date | B2: 46282 | C2: Period End | D2: 46265 | E2: Contact | F2: pru-support@eurocontrol.int
A4: Period: JAN-AUG | B4: SES Area (RP4)
A5: Year | B5: Days | C5: Total IFR flights | D5: Avg. Daily | E5: % change
A6: 2015 | B6: 243 | C6: 5926437 | D6: =C6/B6 -> 24388.63
A7: 2016 | B7: 244 | C7: 6095809 | D7: =C7/B7 -> 24982.824 | E7: =D7/D6-1 -> 0.024363572
A8: 2017 | B8: 243 | C8: 6330484 | D8: =C8/B8 -> 26051.374 | E8: =D8/D7-1 -> 0.042771415
A9: 2018 | B9: 243 | C9: 6559460 | D9: =C9/B9 -> 26993.663 | E9: =D9/D8-1 -> 0.036170378
A10: 2019 | B10: 243 | C10: 6698579 | D10: =C10/B10 -> 27566.169 | E10: =D10/D9-1 -> 0.02120891
A11: 2020 | B11: 244 | C11: 3092038 | D11: =C11/B11 -> 12672.287 | E11: =D11/D10-1 -> -0.54029568
A12: 2021 | B12: 243 | C12: 3093140 | D12: =C12/B12 -> 12728.971 | E12: =D12/D11-1 -> 0.0044730922
A13: 2022 | B13: 243 | C13: 5484172 | D13: =C13/B13 -> 22568.609 | E13: =D13/D12-1 -> 0.77301124
A14: 2023 | B14: 243 | C14: 6052879 | D14: =C14/B14 -> 24908.967 | E14: =D14/D13-1 -> 0.1036997
A15: 2024 | B15: 244 | C15: 6393975 | D15: =C15/B15 -> 26204.816 | E15: =D15/D14-1 -> 0.052023373
A16: 2025 | B16: 243 | C16: 6654820 | D16: =C16/B16 -> 27386.091 | E16: =D16/D15-1 -> 0.045078545
A17: 2026 | B17: 243 | C17: 6785935 | D17: =C17/B17 -> 27925.658 | E17: =D17/D16-1 -> 0.019702261

Sheet ERT_FLTS_MM
A1: Data source | B1: EUROCONTROL - PRU | C1: Period Start | D1: 42005 | E1: Meta data | F1: N/A
A2: Release date | B2: =ERT_FLTS_YY!B2 -> 46282 | C2: Period End | D2: =ERT_FLTS_YY!D2 -> 46265 | E2: Contact | F2: pru-support@eurocontrol.int
A4: Entity | B4: Year | C4: Month | D4: Label | E4: Days | F4: Total IFR flights | G4: Avg. Daily | H4: cum. change vs. same period in previous year (%) | I4: Select
A5: SES AREA RP3 | B5: 2015 | C5: Jan-15 | D5: JAN | E5: 31 | F5: 608704 | G5: =F5/E5 -> 19635.613 | I5: 0
A6: SES AREA RP3 | B6: 2015 | C6: Feb-15 | D6: FEB | E6: 28 | F6: 579221 | G6: =F6/E6 -> 20686.464 | I6: 0
A7: SES AREA RP3 | B7: 2015 | C7: Mar-15 | D7: MAR | E7: 31 | F7: 674925 | G7: =F7/E7 -> 21771.774 | I7: 0
A8: SES AREA RP3 | B8: 2015 | C8: Apr-15 | D8: APR | E8: 30 | F8: 722009 | G8: =F8/E8 -> 24066.967 | I8: 0
A9: SES AREA RP3 | B9: 2015 | C9: May-15 | D9: MAY | E9: 31 | F9: 787333 | G9: =F9/E9 -> 25397.839 | I9: 0
A10: SES AREA RP3 | B10: 2015 | C10: Jun-15 | D10: JUN | E10: 30 | F10: 827861 | G10: =F10/E10 -> 27595.367 | I10: 0
A11: SES AREA RP3 | B11: 2015 | C11: Jul-15 | D11: JUL | E11: 31 | F11: 865862 | G11: =F11/E11 -> 27931.032 | I11: 0
A12: SES AREA RP3 | B12: 2015 | C12: Aug-15 | D12: AUG | E12: 31 | F12: 860522 | G12: =F12/E12 -> 27758.774 | I12: 0
A13: SES AREA RP3 | B13: 2015 | C13: Sep-15 | D13: SEP | E13: 30 | F13: 831182 | G13: =F13/E13 -> 27706.067 | I13: 0
A14: SES AREA RP3 | B14: 2015 | C14: Oct-15 | D14: OCT | E14: 31 | F14: 783757 | G14: =F14/E14 -> 25282.484 | I14: 0
A15: SES AREA RP3 | B15: 2015 | C15: Nov-15 | D15: NOV | E15: 30 | F15: 647661 | G15: =F15/E15 -> 21588.7 | I15: 0
A16: SES AREA RP3 | B16: 2015 | C16: Dec-15 | D16: DEC | E16: 31 | F16: 631377 | G16: =F16/E16 -> 20367 | I16: 0
... A136: SES AREA RP4 | B136: 2025 | C136: Dec-25 | D136: DEC | E136: 31 | F136: 733707 | G136: =F136/E136 -> 23667.968 | I136: 1
A137: SES AREA RP4 | B137: 2026 | C137: Jan-26 | D137: JAN | E137: 31 | F137: 676309 | G137: =F137/E137 -> 21816.419 | H137: =(sum(F$137:F137)/sum(E$137:E137))/((sum(F$125:F125)/sum(E$125:E125)))-1 -> 0.028747661 | I137: 1
A138: SES AREA RP4 | B138: 2026 | C138: Feb-26 | D138: FEB | E138: 28 | F138: 651404 | G138: =F138/E138 -> 23264.429 | H138: =(sum(F$137:F138)/sum(E$137:E138))/((sum(F$125:F126)/sum(E$125:E126)))-1 -> 0.027298148 | I138: 1
A139: SES AREA RP4 | B139: 2026 | C139: Mar-26 | D139: MAR | E139: 31 | F139: 758189 | G139: =F139/E139 -> 24457.71 | H139: =(sum(F$137:F139)/sum(E$137:E139))/((sum(F$125:F127)/sum(E$125:E127)))-1 -> 0.027632088 | I139: 1
A140: SES AREA RP4 | B140: 2026 | C140: Apr-26 | D140: APR | E140: 30 | F140: 823183 | G140: =F140/E140 -> 27439.433 | H140: =(sum(F$137:F140)/sum(E$137:E140))/((sum(F$125:F128)/sum(E$125:E128)))-1 -> 0.01906389 | I140: 1
A141: SES AREA RP4 | B141: 2026 | C141: May-26 | D141: MAY | E141: 31 | F141: 908180 | G141: =F141/E141 -> 29296.129 | H141: =(sum(F$137:F141)/sum(E$137:E141))/((sum(F$125:F129)/sum(E$125:E129)))-1 -> 0.016976494 | I141: 1
A142: SES AREA RP4 | B142: 2026 | C142: Jun-26 | D142: JUN | E142: 30 | F142: 949846 | G142: =F142/E142 -> 31661.533 | H142: =(sum(F$137:F142)/sum(E$137:E142))/((sum(F$125:F130)/sum(E$125:E130)))-1 -> 0.016640137 | I142: 1
A143: SES AREA RP4 | B143: 2026 | C143: Jul-26 | D143: JUL | E143: 31 | F143: 1012711 | G143: =F143/E143 -> 32668.097 | H143: =(sum(F$137:F143)/sum(E$137:E143))/((sum(F$125:F131)/sum(E$125:E131)))-1 -> 0.018728616 | I143: 1
A144: SES AREA RP4 | B144: 2026 | C144: Aug-26 | D144: AUG | E144: 31 | F144: 1006113 | G144: =F144/E144 -> 32455.258 | H144: =(sum(F$137:F144)/sum(E$137:E144))/((sum(F$125:F132)/sum(E$125:E132)))-1 -> 0.019702261 | I144: 1
A145: SES AREA RP4 | B145: 2026 | C145: Sep-26 | D145: SEP | E145: 30 | I145: 1
A146: SES AREA RP4 | B146: 2026 | C146: Oct-26 | D146: OCT | E146: 31 | I146: 1
A147: SES AREA RP4 | B147: 2026 | C147: Nov-26 | D147: NOV | E147: 30 | I147: 1
A148: SES AREA RP4 | B148: 2026 | C148: Dec-26 | D148: DEC | E148: 31 | I148: 1

Sheet ERT_FLTS_LOC
A1: Data source | B1: EUROCONTROL - PRU | C1: Period Start | D1: 45658 | E1: Meta data | F1: N/A
A2: Release date | B2: =ERT_FLTS_YY!B2 -> 46282 | C2: Period End | D2: =ERT_FLTS_YY!D2 -> 46265 | E2: Contact | F2: pru-support@eurocontrol.int
A4: =ERT_FLTS_YY!A4 -> Period: JAN-AUG | B4: Total | C4: Total | D4: Avg. daily | E4: Avg. daily | F4: Avg. daily
A5: Entity (based on FIR) | B5: 2025 | C5: 2026 | D5: 2025 | E5: 2026 | F5: % change
A6: SES Area | B6: 6654820 | C6: 6785935 | D6: 27386 | E6: 27926 | F6: =E6/D6-1 -> 0.019718104
A7: Austria | B7: 1121042 | C7: 1123895 | D7: 4613 | E7: 4625 | F7: =E7/D7-1 -> 0.002601344
A8: Belgium | B8: 847708 | C8: 833170 | D8: 3489 | E8: 3429 | F8: =E8/D8-1 -> -0.017196905
A9: Bulgaria | B9: 743443 | C9: 700303 | D9: 3059 | E9: 2882 | F9: =E9/D9-1 -> -0.057862046
A10: Croatia | B10: 671874 | C10: 722832 | D10: 2765 | E10: 2975 | F10: =E10/D10-1 -> 0.075949367
A11: Cyprus | B11: 286041 | C11: 312523 | D11: 1177 | E11: 1286 | F11: =E11/D11-1 -> 0.092608326
A12: Czech Republic | B12: 561772 | C12: 574416 | D12: 2312 | E12: 2364 | F12: =E12/D12-1 -> 0.022491349
A13: Denmark | B13: 399700 | C13: 411061 | D13: 1645 | E13: 1692 | F13: =E13/D13-1 -> 0.028571429
A14: Estonia | B14: 117296 | C14: 124333 | D14: 483 | E14: 512 | F14: =E14/D14-1 -> 0.060041408
A15: Finland | B15: 159805 | C15: 163355 | D15: 658 | E15: 672 | F15: =E15/D15-1 -> 0.021276596
A16: France | B16: 2420679 | C16: 2501273 | D16: 9962 | E16: 10293 | F16: =E16/D16-1 -> 0.03322626
A17: Germany | B17: 2093625 | C17: 2078566 | D17: 8616 | E17: 8554 | F17: =E17/D17-1 -> -0.0071959146
... A34: Switzerland | B34: 808628 | C34: 832877 | D34: 3328 | E34: 3427 | F34: =E34/D34-1 -> 0.029747596

Sheet Change Log
A1: Change date | B1: Entity | C1: Period | D1: Comment
A2: 44351 | B2: UK | D2: UK removed from SES area
